BEGIN:VCALENDAR
VERSION:2.0
PRODID:-//Fahrschule Witten - ECPv4.9.8//NONSGML v1.0//EN
CALSCALE:GREGORIAN
METHOD:PUBLISH
X-WR-CALNAME:Fahrschule Witten
X-ORIGINAL-URL:https://www.fahrschule-witten.de
X-WR-CALDESC:Veranstaltungen im Fahrschule Witten
BEGIN:VTIMEZONE
TZID:Europe/Berlin
BEGIN:DAYLIGHT
TZOFFSETFROM:+0100
TZOFFSETTO:+0200
TZNAME:CEST
DTSTART:20180325T010000
END:DAYLIGHT
BEGIN:STANDARD
TZOFFSETFROM:+0200
TZOFFSETTO:+0100
TZNAME:CET
DTSTART:20181028T010000
END:STANDARD
END:VTIMEZONE
BEGIN:VEVENT
DTSTART;TZID="Europe/Berlin":20181221T183000
DTEND;TZID="Europe/Berlin":20181221T200000
DTSTAMP:20260425T034415
CREATED:20181220T191136Z
LAST-MODIFIED:20190916T153752Z
UID:325-1545417000-1545422400@www.fahrschule-witten.de
SUMMARY:Test
DESCRIPTION:Text dfsdgfsdf \n
URL:https://www.fahrschule-witten.de/events/test/
LOCATION:Witten-Innenstadt\, Oberstr. 16\, Witten\, 58452\, Deutschland
END:VEVENT
END:VCALENDAR