BEGIN:VCALENDAR
VERSION:2.0
PRODID:-//Fahrschule Witten - ECPv4.9.8//NONSGML v1.0//EN
CALSCALE:GREGORIAN
METHOD:PUBLISH
X-WR-CALNAME:Fahrschule Witten
X-ORIGINAL-URL:https://www.fahrschule-witten.de
X-WR-CALDESC:Veranstaltungen im Fahrschule Witten
BEGIN:VTIMEZONE
TZID:Europe/Berlin
BEGIN:DAYLIGHT
TZOFFSETFROM:+0100
TZOFFSETTO:+0200
TZNAME:CEST
DTSTART:20230326T010000
END:DAYLIGHT
BEGIN:STANDARD
TZOFFSETFROM:+0200
TZOFFSETTO:+0100
TZNAME:CET
DTSTART:20231029T010000
END:STANDARD
END:VTIMEZONE
BEGIN:VEVENT
DTSTART;TZID="Europe/Berlin":20230911T183000
DTEND;TZID="Europe/Berlin":20230911T200000
DTSTAMP:20260424T222644
CREATED:20230707T113656Z
LAST-MODIFIED:20230707T113656Z
UID:576-1694457000-1694462400@www.fahrschule-witten.de
SUMMARY:Lektion 8
DESCRIPTION:Andere Teilnehmer am Straßenverkehr \n
URL:https://www.fahrschule-witten.de/events/lektion-8-2/
END:VEVENT
END:VCALENDAR