BEGIN:VCALENDAR
VERSION:2.0
PRODID:-//Fahrschule Witten - ECPv4.9.8//NONSGML v1.0//EN
CALSCALE:GREGORIAN
METHOD:PUBLISH
X-WR-CALNAME:Fahrschule Witten
X-ORIGINAL-URL:https://www.fahrschule-witten.de
X-WR-CALDESC:Veranstaltungen im Fahrschule Witten
BEGIN:VTIMEZONE
TZID:Europe/Berlin
BEGIN:DAYLIGHT
TZOFFSETFROM:+0100
TZOFFSETTO:+0200
TZNAME:CEST
DTSTART:20230326T010000
END:DAYLIGHT
BEGIN:STANDARD
TZOFFSETFROM:+0200
TZOFFSETTO:+0100
TZNAME:CET
DTSTART:20231029T010000
END:STANDARD
END:VTIMEZONE
BEGIN:VEVENT
DTSTART;TZID="Europe/Berlin":20230906T183000
DTEND;TZID="Europe/Berlin":20230906T200000
DTSTAMP:20260424T222056
CREATED:20230707T113538Z
LAST-MODIFIED:20230707T113538Z
UID:574-1694025000-1694030400@www.fahrschule-witten.de
SUMMARY:Lektion 7
DESCRIPTION:Geschwindigkeit\, Abstand und umweltbewußte Fahrweise \n
URL:https://www.fahrschule-witten.de/events/lektion-7-2/
END:VEVENT
END:VCALENDAR