BEGIN:VCALENDAR
VERSION:2.0
PRODID:-//Fahrschule Witten - ECPv4.9.8//NONSGML v1.0//EN
CALSCALE:GREGORIAN
METHOD:PUBLISH
X-WR-CALNAME:Fahrschule Witten
X-ORIGINAL-URL:https://www.fahrschule-witten.de
X-WR-CALDESC:Veranstaltungen im Fahrschule Witten
BEGIN:VTIMEZONE
TZID:Europe/Berlin
BEGIN:DAYLIGHT
TZOFFSETFROM:+0100
TZOFFSETTO:+0200
TZNAME:CEST
DTSTART:20250330T010000
END:DAYLIGHT
BEGIN:STANDARD
TZOFFSETFROM:+0200
TZOFFSETTO:+0100
TZNAME:CET
DTSTART:20251026T010000
END:STANDARD
END:VTIMEZONE
BEGIN:VEVENT
DTSTART;TZID="Europe/Berlin":20251215T183000
DTEND;TZID="Europe/Berlin":20251215T200000
DTSTAMP:20260424T204125
CREATED:20251113T103117Z
LAST-MODIFIED:20251113T141655Z
UID:379-1765823400-1765828800@www.fahrschule-witten.de
SUMMARY:Lektion 3
DESCRIPTION:Lektion 3: \nGrundregel § 1 StVO \nVerkehrszeichen und Verkehrseinrichtungen \n
URL:https://www.fahrschule-witten.de/events/lektion-3/
END:VEVENT
END:VCALENDAR