BEGIN:VCALENDAR
VERSION:2.0
PRODID:-//Fahrschule Witten - ECPv4.9.8//NONSGML v1.0//EN
CALSCALE:GREGORIAN
METHOD:PUBLISH
X-WR-CALNAME:Fahrschule Witten
X-ORIGINAL-URL:https://www.fahrschule-witten.de
X-WR-CALDESC:Veranstaltungen im Fahrschule Witten
BEGIN:VTIMEZONE
TZID:Europe/Berlin
BEGIN:DAYLIGHT
TZOFFSETFROM:+0100
TZOFFSETTO:+0200
TZNAME:CEST
DTSTART:20260329T010000
END:DAYLIGHT
BEGIN:STANDARD
TZOFFSETFROM:+0200
TZOFFSETTO:+0100
TZNAME:CET
DTSTART:20261025T010000
END:STANDARD
END:VTIMEZONE
BEGIN:VEVENT
DTSTART;TZID="Europe/Berlin":20260113T183000
DTEND;TZID="Europe/Berlin":20260113T200000
DTSTAMP:20260424T184132
CREATED:20251113T104306Z
LAST-MODIFIED:20251204T145126Z
UID:545-1768329000-1768334400@www.fahrschule-witten.de
SUMMARY:Lektion 10
DESCRIPTION:Ruhender Verkehr \n
URL:https://www.fahrschule-witten.de/events/lektion-10-2/
END:VEVENT
END:VCALENDAR