BEGIN:VCALENDAR
VERSION:2.0
PRODID:-//Fahrschule Witten - ECPv4.9.8//NONSGML v1.0//EN
CALSCALE:GREGORIAN
METHOD:PUBLISH
X-WR-CALNAME:Fahrschule Witten
X-ORIGINAL-URL:https://www.fahrschule-witten.de
X-WR-CALDESC:Veranstaltungen im Fahrschule Witten
BEGIN:VTIMEZONE
TZID:Europe/Berlin
BEGIN:DAYLIGHT
TZOFFSETFROM:+0100
TZOFFSETTO:+0200
TZNAME:CEST
DTSTART:20250330T010000
END:DAYLIGHT
BEGIN:STANDARD
TZOFFSETFROM:+0200
TZOFFSETTO:+0100
TZNAME:CET
DTSTART:20251026T010000
END:STANDARD
END:VTIMEZONE
BEGIN:VEVENT
DTSTART;TZID="Europe/Berlin":20251209T183000
DTEND;TZID="Europe/Berlin":20251209T200000
DTSTAMP:20260424T202143
CREATED:20251113T105349Z
LAST-MODIFIED:20251113T141518Z
UID:556-1765305000-1765310400@www.fahrschule-witten.de
SUMMARY:Lektion 1
DESCRIPTION:Persönliche Voraussetzungen \nRisikofaktor Mensch \n
URL:https://www.fahrschule-witten.de/events/lektion-1-2/
END:VEVENT
END:VCALENDAR